BEGIN:VCALENDAR
VERSION:2.0
CALSCALE:GREGORIAN
PRODID:-//Diputació de Barcelona//DibaCMS//EN
BEGIN:VEVENT
UID:3605
DTSTAMP:20260422T002632
DTSTART:20180714T213000
DTEND:20180714T230000
SUMMARY:Sopar Solidari per Caritas
LOCATION:
METHOD:PUBLISH
X-WR-CALNAME:capellades@capellades.cat
X-WR-TIMEZONE:Europe/Madrid
DESCRIPTION:La Penya Blaugrana de Capellades i Càritas organitza novament el sopar solidari per Caritas.

URI:https://www.capellades.cat/actualitat/agenda/3605-sopar-solidari-per-caritas.html
CLASS:PUBLIC
END:VEVENT
END:VCALENDAR
