BEGIN:VCALENDAR
VERSION:2.0
CALSCALE:GREGORIAN
PRODID:-//Diputació de Barcelona//DibaCMS//EN
BEGIN:VEVENT
UID:3595
DTSTAMP:20260422T030812
DTSTART:20180714T200000
DTEND:20180715T220000
SUMMARY:Cervells en la fosca
LOCATION:
METHOD:PUBLISH
X-WR-CALNAME:capellades@capellades.cat
X-WR-TIMEZONE:Europe/Madrid
DESCRIPTION:El Grup Teatral de Capellades posarà en escena per darrer cop l'obra "Cervells en la fosca".

URI:https://www.capellades.cat/actualitat/agenda/cervells-en-la-fosca.html
CLASS:PUBLIC
END:VEVENT
END:VCALENDAR
