BEGIN:VCALENDAR
VERSION:2.0
CALSCALE:GREGORIAN
PRODID:-//Diputació de Barcelona//DibaCMS//EN
BEGIN:VEVENT
UID:3594
DTSTAMP:20260422T102334
DTSTART:20180713T220000
DTEND:20180713T235500
SUMMARY:Les Nits dels Divendres
LOCATION:
METHOD:PUBLISH
X-WR-CALNAME:capellades@capellades.cat
X-WR-TIMEZONE:Europe/Madrid
DESCRIPTION:Comença aquesta aquesta nova proposta organitzada des de La Lliga de Capellades que farà que els divendres passin coses.

URI:https://www.capellades.cat/actualitat/agenda/les-nits-dels-divendres.html
CLASS:PUBLIC
END:VEVENT
END:VCALENDAR
