BEGIN:VCALENDAR
VERSION:2.0
CALSCALE:GREGORIAN
PRODID:-//Diputació de Barcelona//DibaCMS//EN
BEGIN:VEVENT
UID:3593
DTSTAMP:20260422T032902
DTSTART:20180713T203000
DTEND:20180713T235500
SUMMARY:Festa d'Estiu del Carrer Sarrià de Ter
LOCATION:
METHOD:PUBLISH
X-WR-CALNAME:capellades@capellades.cat
X-WR-TIMEZONE:Europe/Madrid
DESCRIPTION:Els veïns i veïnes del carrer Sarrià de Ter es trobaran novament al carrer per compartir sopar i festa.

URI:https://www.capellades.cat/actualitat/agenda/festa-destiu-del-carrer-sarria-de-ter.html
CLASS:PUBLIC
END:VEVENT
END:VCALENDAR
