BEGIN:VCALENDAR
VERSION:2.0
CALSCALE:GREGORIAN
PRODID:-//Diputació de Barcelona//DibaCMS//EN
BEGIN:VEVENT
UID:3592
DTSTAMP:20260422T002606
DTSTART:20180713T200000
DTEND:20180713T210000
SUMMARY:Segona Piscina Nocturna
LOCATION:
METHOD:PUBLISH
X-WR-CALNAME:capellades@capellades.cat
X-WR-TIMEZONE:Europe/Madrid
DESCRIPTION:Nova edició de la Piscina Nocturna.

URI:https://www.capellades.cat/actualitat/agenda/segona-piscina-nocturna.html
CLASS:PUBLIC
END:VEVENT
END:VCALENDAR
