BEGIN:VCALENDAR
VERSION:2.0
CALSCALE:GREGORIAN
PRODID:-//Diputació de Barcelona//DibaCMS//EN
BEGIN:VEVENT
UID:3591
DTSTAMP:20260422T001951
DTSTART:20180713T193000
DTEND:20180713T203000
SUMMARY:Trobada poètica
LOCATION:
METHOD:PUBLISH
X-WR-CALNAME:capellades@capellades.cat
X-WR-TIMEZONE:Europe/Madrid
DESCRIPTION:La Lliga organitza aquest mes de juliol una nova trobada poètica.

URI:https://www.capellades.cat/actualitat/agenda/3591-trobada-poetica.html
CLASS:PUBLIC
END:VEVENT
END:VCALENDAR
