BEGIN:VCALENDAR
VERSION:2.0
CALSCALE:GREGORIAN
PRODID:-//Diputació de Barcelona//DibaCMS//EN
BEGIN:VEVENT
UID:3589
DTSTAMP:20260422T032616
DTSTART:20180711T220000
DTEND:20180711T234000
SUMMARY:Cinema a la fresca: Coco
LOCATION:
METHOD:PUBLISH
X-WR-CALNAME:capellades@capellades.cat
X-WR-TIMEZONE:Europe/Madrid
DESCRIPTION:Aquesta setmana el Cinema a la Fresca organitzat des de La Lliga proposa veure "Coco".

URI:https://www.capellades.cat/actualitat/agenda/cinema-a-la-fresca-coco.html
CLASS:PUBLIC
END:VEVENT
END:VCALENDAR
