BEGIN:VCALENDAR
VERSION:2.0
CALSCALE:GREGORIAN
PRODID:-//Diputació de Barcelona//DibaCMS//EN
BEGIN:VEVENT
UID:3588
DTSTAMP:20260422T000344
DTSTART:20180708T110000
DTEND:20180708T150000
SUMMARY:Mulla't per l'esclerosi múltiple
LOCATION:
METHOD:PUBLISH
X-WR-CALNAME:capellades@capellades.cat
X-WR-TIMEZONE:Europe/Madrid
DESCRIPTION:Mulla't per l'Esclerosi Múltiple és una proposta de la Fundació Esclerosi Múltiple que enguany compleix 25 anys.

URI:https://www.capellades.cat/actualitat/agenda/3588-mullat-per-lesclerosi-multiple.html
CLASS:PUBLIC
END:VEVENT
END:VCALENDAR
