BEGIN:VCALENDAR
VERSION:2.0
CALSCALE:GREGORIAN
PRODID:-//Diputació de Barcelona//DibaCMS//EN
BEGIN:VEVENT
UID:3587
DTSTAMP:20260422T100524
DTSTART:20180708T100000
DTEND:20180708T120000
SUMMARY:Segon diumenge de mes, Mercat d'Antiguitats
LOCATION:
METHOD:PUBLISH
X-WR-CALNAME:capellades@capellades.cat
X-WR-TIMEZONE:Europe/Madrid
DESCRIPTION:Cada segon diumenge de mes es fa a Capellades un Mercat d'Antiguitats, segona mà i peces variades.

URI:https://www.capellades.cat/actualitat/agenda/segon-diumenge-de-mes-mercat-dantiguitats.html
CLASS:PUBLIC
END:VEVENT
END:VCALENDAR
