BEGIN:VCALENDAR
VERSION:2.0
CALSCALE:GREGORIAN
PRODID:-//Diputació de Barcelona//DibaCMS//EN
BEGIN:VEVENT
UID:3586
DTSTAMP:20260422T122043
DTSTART:20180707T190000
DTEND:20180707T210000
SUMMARY:VII Trofeu Vila de Capellades de Futbol Americà
LOCATION:
METHOD:PUBLISH
X-WR-CALNAME:capellades@capellades.cat
X-WR-TIMEZONE:Europe/Madrid
DESCRIPTION:
URI:https://www.capellades.cat/actualitat/agenda/vii-trofeu-vila-de-capellades-de-futbol-america.html
CLASS:PUBLIC
END:VEVENT
END:VCALENDAR
