BEGIN:VCALENDAR
VERSION:2.0
CALSCALE:GREGORIAN
PRODID:-//Diputació de Barcelona//DibaCMS//EN
BEGIN:VEVENT
UID:3585
DTSTAMP:20260422T065622
DTSTART:20180707T103000
DTEND:20180707T210000
SUMMARY:Programa d'actes de Sant Cristòfor
LOCATION:
METHOD:PUBLISH
X-WR-CALNAME:capellades@capellades.cat
X-WR-TIMEZONE:Europe/Madrid
DESCRIPTION:La Comissió organitzadora de la Festa de Sant Cristòfol ha organitzat un seguit d'actes per celebrar aquest dissabte la diada del patró dels conductors.

URI:https://www.capellades.cat/actualitat/agenda/programa-dactes-de-sant-cristofor.html
CLASS:PUBLIC
END:VEVENT
END:VCALENDAR
