BEGIN:VCALENDAR
VERSION:2.0
CALSCALE:GREGORIAN
PRODID:-//Diputació de Barcelona//DibaCMS//EN
BEGIN:VEVENT
UID:3581
DTSTAMP:20260422T042734
DTSTART:20180710T213000
DTEND:20180710T230000
SUMMARY:Audiciona't 35: C15 Jazz Band en concert
LOCATION:C/ Divina Pastora, 10 08786 Capellades
METHOD:PUBLISH
X-WR-CALNAME:capellades@capellades.cat
X-WR-TIMEZONE:Europe/Madrid
DESCRIPTION:La C15 Jazz Band serà protagonista del 35è. Audiciona't organitzat des de l'Escola de Música de Capellades.

URI:https://www.capellades.cat/actualitat/agenda/audicionat-35-c15-jazz-band-en-concert.html
CLASS:PUBLIC
END:VEVENT
END:VCALENDAR
