BEGIN:VCALENDAR
VERSION:2.0
CALSCALE:GREGORIAN
PRODID:-//Diputació de Barcelona//DibaCMS//EN
BEGIN:VEVENT
UID:3580
DTSTAMP:20260422T083641
DTSTART:20180707T090000
DTEND:20180707T230000
SUMMARY:Sortida a Andorra
LOCATION:
METHOD:PUBLISH
X-WR-CALNAME:capellades@capellades.cat
X-WR-TIMEZONE:Europe/Madrid
DESCRIPTION:L'Associació d'Esports de Muntanya, AEMdeKP, organitza la sortida de club aquest juliol a Andorra.

URI:https://www.capellades.cat/actualitat/agenda/sortida-a-andorra.html
CLASS:PUBLIC
END:VEVENT
END:VCALENDAR
