BEGIN:VCALENDAR
VERSION:2.0
CALSCALE:GREGORIAN
PRODID:-//Diputació de Barcelona//DibaCMS//EN
BEGIN:VEVENT
UID:3572
DTSTAMP:20260422T050118
DTSTART:20180709T160000
DTEND:20180710T173000
SUMMARY:Taller de creació de videojocs
LOCATION:C/ Pilar, 2 08786 Capellades
METHOD:PUBLISH
X-WR-CALNAME:capellades@capellades.cat
X-WR-TIMEZONE:Europe/Madrid
DESCRIPTION:La Biblioteca El Safareig organitza un nou taller per aquest mes de juliol.

URI:https://www.capellades.cat/actualitat/agenda/taller-de-creacio-de-videojocs.html
CLASS:PUBLIC
END:VEVENT
END:VCALENDAR
