BEGIN:VCALENDAR
VERSION:2.0
CALSCALE:GREGORIAN
PRODID:-//Diputació de Barcelona//DibaCMS//EN
BEGIN:VEVENT
UID:3571
DTSTAMP:20260422T000443
DTSTART:20180704T220000
DTEND:20180704T235000
SUMMARY:Cinema a la fresca 
LOCATION:
METHOD:PUBLISH
X-WR-CALNAME:capellades@capellades.cat
X-WR-TIMEZONE:Europe/Madrid
DESCRIPTION:El Cinema a la Fresca serà els dimecres de l'estiu, a les 10 de la nit al Pati de La Lliga. En cas de mal temps, es farà dins el Teatre.

URI:https://www.capellades.cat/actualitat/agenda/cinema-a-la-fresca-.html
CLASS:PUBLIC
END:VEVENT
END:VCALENDAR
