BEGIN:VCALENDAR
VERSION:2.0
CALSCALE:GREGORIAN
PRODID:-//Diputació de Barcelona//DibaCMS//EN
BEGIN:VEVENT
UID:3570
DTSTAMP:20260422T000257
DTSTART:20180704T103000
DTEND:20180704T130000
SUMMARY:Visita Oficina Mòbil d'Atenció al Consumidor
LOCATION:
METHOD:PUBLISH
X-WR-CALNAME:capellades@capellades.cat
X-WR-TIMEZONE:Europe/Madrid
DESCRIPTION:L'Oficina Mòbil d'Atenció al Consumidor vindrà aquest dimecres 4 de juliol per resoldre tots els dubtes relacionats amb qüestions de consum.

URI:https://www.capellades.cat/actualitat/agenda/3570-visita-oficina-mobil-datencio-al-consumidor.html
CLASS:PUBLIC
END:VEVENT
END:VCALENDAR
