BEGIN:VCALENDAR
VERSION:2.0
CALSCALE:GREGORIAN
PRODID:-//Diputació de Barcelona//DibaCMS//EN
BEGIN:VEVENT
UID:3562
DTSTAMP:20260422T164142
DTSTART:20180630T120000
DTEND:20180708T200000
SUMMARY:Des d'aquest dissabte, exposició fotogràfica 
LOCATION:
METHOD:PUBLISH
X-WR-CALNAME:capellades@capellades.cat
X-WR-TIMEZONE:Europe/Madrid
DESCRIPTION:El darrer cap de setmana de juny i el primer de juliol, Casa Bas acollirà una exposició amb les imatges que han participat a la XIX edició del concurs fotogràfic de la Setmana Sense Fum.

URI:https://www.capellades.cat/actualitat/agenda/des-daquest-dissabte-exposicio-fotografica-.html
CLASS:PUBLIC
END:VEVENT
END:VCALENDAR
