BEGIN:VCALENDAR
VERSION:2.0
CALSCALE:GREGORIAN
PRODID:-//Diputació de Barcelona//DibaCMS//EN
BEGIN:VEVENT
UID:3551
DTSTAMP:20260422T000518
DTSTART:20180630T200000
DTEND:20180630T230000
SUMMARY:Falcons de Capellades celebra el seu sisè aniversari
LOCATION:
METHOD:PUBLISH
X-WR-CALNAME:capellades@capellades.cat
X-WR-TIMEZONE:Europe/Madrid
DESCRIPTION:Aquest dissabte a partir de les 8 del vespre Falcons de Capellades celebra el seu sisè aniversari.

URI:https://www.capellades.cat/actualitat/agenda/falcons-de-capellades-celebra-el-seu-sise-aniversari.html
CLASS:PUBLIC
END:VEVENT
END:VCALENDAR
