BEGIN:VCALENDAR
VERSION:2.0
CALSCALE:GREGORIAN
PRODID:-//Diputació de Barcelona//DibaCMS//EN
BEGIN:VEVENT
UID:3550
DTSTAMP:20260422T054611
DTSTART:20180630T180000
DTEND:20180630T230000
SUMMARY:Festa de fi de curs del Club de Futbol Sala
LOCATION:
METHOD:PUBLISH
X-WR-CALNAME:capellades@capellades.cat
X-WR-TIMEZONE:Europe/Madrid
DESCRIPTION:Després d'una bona temporada aquest dissabtes es farà la festa de fi de curs del Club de Futbol Sala Capellades.

URI:https://www.capellades.cat/actualitat/agenda/festa-de-fi-de-curs-del-club-de-futbol-sala.html
CLASS:PUBLIC
END:VEVENT
END:VCALENDAR
