BEGIN:VCALENDAR
VERSION:2.0
CALSCALE:GREGORIAN
PRODID:-//Diputació de Barcelona//DibaCMS//EN
BEGIN:VEVENT
UID:3549
DTSTAMP:20260422T013210
DTSTART:20180630T160000
DTEND:20180630T200000
SUMMARY:Exhibició i fi de curs del Club Rítmica Capellades
LOCATION:
METHOD:PUBLISH
X-WR-CALNAME:capellades@capellades.cat
X-WR-TIMEZONE:Europe/Madrid
DESCRIPTION:El club Rítmica Capellades farà aquest dissabte la seva festa de fi de curs.

URI:https://www.capellades.cat/actualitat/agenda/exhibicio-i-fi-de-curs-del-club-ritmica-capellades.html
CLASS:PUBLIC
END:VEVENT
END:VCALENDAR
