BEGIN:VCALENDAR
VERSION:2.0
CALSCALE:GREGORIAN
PRODID:-//Diputació de Barcelona//DibaCMS//EN
BEGIN:VEVENT
UID:3548
DTSTAMP:20260422T042555
DTSTART:20180628T193000
DTEND:20180628T200000
SUMMARY:Concentració en rebuig als assassinats masclistes 
LOCATION:
METHOD:PUBLISH
X-WR-CALNAME:capellades@capellades.cat
X-WR-TIMEZONE:Europe/Madrid
DESCRIPTION:Com cada mes la Taula de Dones de Capellades farà la concentració de rebuig als assassinats masclistes.

URI:https://www.capellades.cat/actualitat/agenda/concentracio-en-rebuig-als-assassinats-masclistes-.html
CLASS:PUBLIC
END:VEVENT
END:VCALENDAR
