BEGIN:VCALENDAR
VERSION:2.0
CALSCALE:GREGORIAN
PRODID:-//Diputació de Barcelona//DibaCMS//EN
BEGIN:VEVENT
UID:3547
DTSTAMP:20260422T020749
DTSTART:20180626T213000
DTEND:20180626T230000
SUMMARY:Concert de la Banda Big Band de l'Escola de Música
LOCATION:
METHOD:PUBLISH
X-WR-CALNAME:capellades@capellades.cat
X-WR-TIMEZONE:Europe/Madrid
DESCRIPTION:La Banda Big Band de l'Escola de Música de Capellades farà el seu concert de fi de curs.

URI:https://www.capellades.cat/actualitat/agenda/concert-de-la-banda-big-band-de-lescola-de-musica.html
CLASS:PUBLIC
END:VEVENT
END:VCALENDAR
