BEGIN:VCALENDAR
VERSION:2.0
CALSCALE:GREGORIAN
PRODID:-//Diputació de Barcelona//DibaCMS//EN
BEGIN:VEVENT
UID:3546
DTSTAMP:20260422T033313
DTSTART:20180701T180000
DTEND:20180701T200000
SUMMARY:Concert El Cor de l'Orgue
LOCATION:Plaça Verdaguer 08786 Capellades
METHOD:PUBLISH
X-WR-CALNAME:capellades@capellades.cat
X-WR-TIMEZONE:Europe/Madrid
DESCRIPTION:La Coral Noves Veus ha organitzat un gran concert per al diumenge 1 de juliol a l'Església de Santa Maria de Capellades.

URI:https://www.capellades.cat/actualitat/agenda/concert-el-cor-de-lorgue.html
CLASS:PUBLIC
END:VEVENT
END:VCALENDAR
