BEGIN:VCALENDAR
VERSION:2.0
CALSCALE:GREGORIAN
PRODID:-//Diputació de Barcelona//DibaCMS//EN
BEGIN:VEVENT
UID:3540
DTSTAMP:20260422T000415
DTSTART:20180705T193000
DTEND:20180704T210000
SUMMARY:Lola Vendetta a Capellades
LOCATION:
METHOD:PUBLISH
X-WR-CALNAME:capellades@capellades.cat
X-WR-TIMEZONE:Europe/Madrid
DESCRIPTION:Lola Vendetta és l'alter ego de Raquel Riba Rossy, una jove i·llustradora. El personatge va néixer l'any 2014 arran de la necessitat d'expresar allò que l'autora sentía cap a les diferents coses de la societat i, segons la seva pròpia definició "d'alguns individus que li tocaven els ovaris".

 

URI:https://www.capellades.cat/actualitat/agenda/lola-vendetta-a-capellades.html
CLASS:PUBLIC
END:VEVENT
END:VCALENDAR
