BEGIN:VCALENDAR
VERSION:2.0
CALSCALE:GREGORIAN
PRODID:-//Diputació de Barcelona//DibaCMS//EN
BEGIN:VEVENT
UID:3531
DTSTAMP:20260422T032435
DTSTART:20180626T180000
DTEND:20180626T190000
SUMMARY:Taller d'àlbums il·lustrats
LOCATION:
METHOD:PUBLISH
X-WR-CALNAME:capellades@capellades.cat
X-WR-TIMEZONE:Europe/Madrid
DESCRIPTION:Taller d'àlbums il·lustrats organitzat des de la Biblioteca El Safareig per al dimarts 26 de juny.

URI:https://www.capellades.cat/actualitat/agenda/taller-dalbums-illustrats.html
CLASS:PUBLIC
END:VEVENT
END:VCALENDAR
