BEGIN:VCALENDAR
VERSION:2.0
CALSCALE:GREGORIAN
PRODID:-//Diputació de Barcelona//DibaCMS//EN
BEGIN:VEVENT
UID:3526
DTSTAMP:20260422T020615
DTSTART:20180623T235500
DTEND:20180624T020000
SUMMARY:Revetlla de Sant Joan
LOCATION:
METHOD:PUBLISH
X-WR-CALNAME:capellades@capellades.cat
X-WR-TIMEZONE:Europe/Madrid
DESCRIPTION:Dimonis de Capellades organitza un any més la revetlla de Sant Joan al Pati de La Lliga.

URI:https://www.capellades.cat/actualitat/agenda/3526-revetlla-de-sant-joan.html
CLASS:PUBLIC
END:VEVENT
END:VCALENDAR
