BEGIN:VCALENDAR
VERSION:2.0
CALSCALE:GREGORIAN
PRODID:-//Diputació de Barcelona//DibaCMS//EN
BEGIN:VEVENT
UID:3525
DTSTAMP:20260422T003659
DTSTART:20180623T210000
DTEND:20180623T235500
SUMMARY:Foguera de Sant Joan
LOCATION:
METHOD:PUBLISH
X-WR-CALNAME:capellades@capellades.cat
X-WR-TIMEZONE:Europe/Madrid
DESCRIPTION:La Festa de Sant Joan comença a Capellades amb l'arribada de la Flama i la lectura del manifest. 

URI:https://www.capellades.cat/actualitat/agenda/3525-foguera-de-sant-joan.html
CLASS:PUBLIC
END:VEVENT
END:VCALENDAR
