BEGIN:VCALENDAR
VERSION:2.0
CALSCALE:GREGORIAN
PRODID:-//Diputació de Barcelona//DibaCMS//EN
BEGIN:VEVENT
UID:3523
DTSTAMP:20260422T050630
DTSTART:20180622T200000
DTEND:20180622T220000
SUMMARY:Cinefòrum Josep Romanyà Montcada
LOCATION:
METHOD:PUBLISH
X-WR-CALNAME:capellades@capellades.cat
X-WR-TIMEZONE:Europe/Madrid
DESCRIPTION:Nova convocatòria del Cinefòrum Josep Romanyà Montcada.

URI:https://www.capellades.cat/actualitat/agenda/3523-cineforum-josep-romanya-montcada.html
CLASS:PUBLIC
END:VEVENT
END:VCALENDAR
