BEGIN:VCALENDAR
VERSION:2.0
CALSCALE:GREGORIAN
PRODID:-//Diputació de Barcelona//DibaCMS//EN
BEGIN:VEVENT
UID:3522
DTSTAMP:20260422T061546
DTSTART:20180622T183000
DTEND:20180622T200000
SUMMARY:Concert fi de curs Escola de Música
LOCATION:
METHOD:PUBLISH
X-WR-CALNAME:capellades@capellades.cat
X-WR-TIMEZONE:Europe/Madrid
DESCRIPTION:L'Escola de Música de Capellades farà la seva festa de fi de curs amb un Concert a La Lliga.

URI:https://www.capellades.cat/actualitat/agenda/concert-fi-de-curs-escola-de-musica.html
CLASS:PUBLIC
END:VEVENT
END:VCALENDAR
