BEGIN:VCALENDAR
VERSION:2.0
CALSCALE:GREGORIAN
PRODID:-//Diputació de Barcelona//DibaCMS//EN
BEGIN:VEVENT
UID:3520
DTSTAMP:20260422T032629
DTSTART:20180622T203000
DTEND:20180622T230000
SUMMARY:Festa de fi de curs Institut Molí de la Vila
LOCATION:
METHOD:PUBLISH
X-WR-CALNAME:capellades@capellades.cat
X-WR-TIMEZONE:Europe/Madrid
DESCRIPTION:L'AMPA de l'Institut Molí de la Vila ha organitzat un any més la festa de fi de curs per als alumnes de fi de curs de l'institut Molí de la Vila.

URI:https://www.capellades.cat/actualitat/agenda/festa-de-fi-de-curs-institut-moli-de-la-vila.html
CLASS:PUBLIC
END:VEVENT
END:VCALENDAR
