BEGIN:VCALENDAR
VERSION:2.0
CALSCALE:GREGORIAN
PRODID:-//Diputació de Barcelona//DibaCMS//EN
BEGIN:VEVENT
UID:3515
DTSTAMP:20260422T032655
DTSTART:20180619T180000
DTEND:20180619T200000
SUMMARY:Tarda de cinema a la Biblioteca
LOCATION:
METHOD:PUBLISH
X-WR-CALNAME:capellades@capellades.cat
X-WR-TIMEZONE:Europe/Madrid
DESCRIPTION:Nova tarda de cinema a la Biblioteca El Safareig de Capellades.

URI:https://www.capellades.cat/actualitat/agenda/tarda-de-cinema-a-la-biblioteca.html
CLASS:PUBLIC
END:VEVENT
END:VCALENDAR
