BEGIN:VCALENDAR
VERSION:2.0
CALSCALE:GREGORIAN
PRODID:-//Diputació de Barcelona//DibaCMS//EN
BEGIN:VEVENT
UID:3514
DTSTAMP:20260422T123754
DTSTART:20180618T200000
DTEND:20180618T230000
SUMMARY:Comença la recollida Porta a Porta
LOCATION:
METHOD:PUBLISH
X-WR-CALNAME:capellades@capellades.cat
X-WR-TIMEZONE:Europe/Madrid
DESCRIPTION:El 18 de juny serà el primer dia del nous sistema de recollida d'escombreries Porta a Porta.

URI:https://www.capellades.cat/actualitat/agenda/comenca-la-recollida-porta-a-porta.html
CLASS:PUBLIC
END:VEVENT
END:VCALENDAR
