BEGIN:VCALENDAR
VERSION:2.0
CALSCALE:GREGORIAN
PRODID:-//Diputació de Barcelona//DibaCMS//EN
BEGIN:VEVENT
UID:3513
DTSTAMP:20260421T232327
DTSTART:20180617T120000
DTEND:20180617T170000
SUMMARY:Dinar de fi de temporada de l'Hoquei Club Capellades
LOCATION:
METHOD:PUBLISH
X-WR-CALNAME:capellades@capellades.cat
X-WR-TIMEZONE:Europe/Madrid
DESCRIPTION:El Capellades Hoquei Club comparteix el final de temporada amb tots els jugadors i famílies.

URI:https://www.capellades.cat/actualitat/agenda/dinar-de-fi-de-temporada-de-lhoquei-club-capellades.html
CLASS:PUBLIC
END:VEVENT
END:VCALENDAR
