BEGIN:VCALENDAR
VERSION:2.0
CALSCALE:GREGORIAN
PRODID:-//Diputació de Barcelona//DibaCMS//EN
BEGIN:VEVENT
UID:3512
DTSTAMP:20260421T232137
DTSTART:20180617T100000
DTEND:20180617T140000
SUMMARY:Gegants de Capellades a la Ciutat Gegantera 2018
LOCATION:
METHOD:PUBLISH
X-WR-CALNAME:capellades@capellades.cat
X-WR-TIMEZONE:Europe/Madrid
DESCRIPTION:Gegants de Capellades participaran a la Ciutat Gegantera 2018.

URI:https://www.capellades.cat/actualitat/agenda/gegants-de-capellades-a-la-ciutat-gegantera-2018.html
CLASS:PUBLIC
END:VEVENT
END:VCALENDAR
