BEGIN:VCALENDAR
VERSION:2.0
CALSCALE:GREGORIAN
PRODID:-//Diputació de Barcelona//DibaCMS//EN
BEGIN:VEVENT
UID:3511
DTSTAMP:20260422T063551
DTSTART:20180616T220000
DTEND:20180616T235500
SUMMARY:Torna el Liceu a la Fresca
LOCATION:
METHOD:PUBLISH
X-WR-CALNAME:capellades@capellades.cat
X-WR-TIMEZONE:Europe/Madrid
DESCRIPTION:El Pati de La Lliga acollirà una nova edició del Liceu a La Fresca.

URI:https://www.capellades.cat/actualitat/agenda/torna-el-liceu-a-la-fresca.html
CLASS:PUBLIC
END:VEVENT
END:VCALENDAR
