BEGIN:VCALENDAR
VERSION:2.0
CALSCALE:GREGORIAN
PRODID:-//Diputació de Barcelona//DibaCMS//EN
BEGIN:VEVENT
UID:3510
DTSTAMP:20260421T214315
DTSTART:20180616T190000
DTEND:20180616T210000
SUMMARY:Concert Joies del Ballet Rus
LOCATION:C/ del Fossar, 4 08786 Capellades
METHOD:PUBLISH
X-WR-CALNAME:capellades@capellades.cat
X-WR-TIMEZONE:Europe/Madrid
DESCRIPTION:El dissabte 16 de juny, nou recital a Paper de Música.

URI:https://www.capellades.cat/actualitat/agenda/concert-joies-del-ballet-rus.html
CLASS:PUBLIC
END:VEVENT
END:VCALENDAR
