BEGIN:VCALENDAR
VERSION:2.0
CALSCALE:GREGORIAN
PRODID:-//Diputació de Barcelona//DibaCMS//EN
BEGIN:VEVENT
UID:3509
DTSTAMP:20260422T092429
DTSTART:20180616T180000
DTEND:20180616T220000
SUMMARY:Festa de fi de curs Escola Marquès de la Pobla
LOCATION:
METHOD:PUBLISH
X-WR-CALNAME:capellades@capellades.cat
X-WR-TIMEZONE:Europe/Madrid
DESCRIPTION:Tarda de jocs i sopar per acomiadar el curs 2017-18 a l'Escola Marquès de la Pobla.

URI:https://www.capellades.cat/actualitat/agenda/festa-de-fi-de-curs-escola-marques-de-la-pobla.html
CLASS:PUBLIC
END:VEVENT
END:VCALENDAR
