BEGIN:VCALENDAR
VERSION:2.0
CALSCALE:GREGORIAN
PRODID:-//Diputació de Barcelona//DibaCMS//EN
BEGIN:VEVENT
UID:3508
DTSTAMP:20260422T122312
DTSTART:20180616T090000
DTEND:20180616T180000
SUMMARY:VIIè. Campionat de Futbol 7 Mixt
LOCATION:
METHOD:PUBLISH
X-WR-CALNAME:capellades@capellades.cat
X-WR-TIMEZONE:Europe/Madrid
DESCRIPTION:Dimonis de Capellades organitza la setena edició del Campionat de Futbol 7 Mixt.

URI:https://www.capellades.cat/actualitat/agenda/viie-campionat-de-futbol-7-mixt.html
CLASS:PUBLIC
END:VEVENT
END:VCALENDAR
