BEGIN:VCALENDAR
VERSION:2.0
CALSCALE:GREGORIAN
PRODID:-//Diputació de Barcelona//DibaCMS//EN
BEGIN:VEVENT
UID:3507
DTSTAMP:20260422T085851
DTSTART:20180616T063000
DTEND:20180616T210000
SUMMARY:Sortida de la Penya Blaugrana
LOCATION:
METHOD:PUBLISH
X-WR-CALNAME:capellades@capellades.cat
X-WR-TIMEZONE:Europe/Madrid
DESCRIPTION:Aquest mes de juny la Penya Blaugrana de Capellades organitza una excursió per visitar Espot i l'Estany de Sant Maurici.

URI:https://www.capellades.cat/actualitat/agenda/3507-sortida-de-la-penya-blaugrana.html
CLASS:PUBLIC
END:VEVENT
END:VCALENDAR
