BEGIN:VCALENDAR
VERSION:2.0
CALSCALE:GREGORIAN
PRODID:-//Diputació de Barcelona//DibaCMS//EN
BEGIN:VEVENT
UID:3506
DTSTAMP:20260422T050445
DTSTART:20180615T180000
DTEND:20180621T210000
SUMMARY:Audicions dels alumnes de l'Escola de música de Capellades
LOCATION:C/ Divina Pastora, 10 08786 Capellades
METHOD:PUBLISH
X-WR-CALNAME:capellades@capellades.cat
X-WR-TIMEZONE:Europe/Madrid
DESCRIPTION:´L'Escola de Música de Capellades obre portes cada dia de la setmana als pares, famiiars i famílies que vulguin escoltar els alumnes.

URI:https://www.capellades.cat/actualitat/agenda/audicions-dels-alumnes-de-lescola-de-musica-de-capellades.html
CLASS:PUBLIC
END:VEVENT
END:VCALENDAR
