BEGIN:VCALENDAR
VERSION:2.0
CALSCALE:GREGORIAN
PRODID:-//Diputació de Barcelona//DibaCMS//EN
BEGIN:VEVENT
UID:3505
DTSTAMP:20260422T033007
DTSTART:20180615T193000
DTEND:20180608T203000
SUMMARY:Trobada poètica
LOCATION:
METHOD:PUBLISH
X-WR-CALNAME:capellades@capellades.cat
X-WR-TIMEZONE:Europe/Madrid
DESCRIPTION:Poesia al Cafè: Obert a totes les edats.

URI:https://www.capellades.cat/actualitat/agenda/3505-trobada-poetica.html
CLASS:PUBLIC
END:VEVENT
END:VCALENDAR
