BEGIN:VCALENDAR
VERSION:2.0
CALSCALE:GREGORIAN
PRODID:-//Diputació de Barcelona//DibaCMS//EN
BEGIN:VEVENT
UID:3504
DTSTAMP:20260422T062621
DTSTART:20180615T180000
DTEND:20180615T190000
SUMMARY:Reunió informativa del Casal d'Estiu
LOCATION:
METHOD:PUBLISH
X-WR-CALNAME:capellades@capellades.cat
X-WR-TIMEZONE:Europe/Madrid
DESCRIPTION:Tens alguna pregunta sobre com seran les activitats d'estiu per a nens i nenes? La reunió informativa t'ajudarà a resoldre'ls tots!

URI:https://www.capellades.cat/actualitat/agenda/reunio-informativa-del-casal-destiu.html
CLASS:PUBLIC
END:VEVENT
END:VCALENDAR
