BEGIN:VCALENDAR
VERSION:2.0
CALSCALE:GREGORIAN
PRODID:-//Diputació de Barcelona//DibaCMS//EN
BEGIN:VEVENT
UID:3503
DTSTAMP:20260422T044622
DTSTART:20180614T200000
DTEND:20180614T220000
SUMMARY:Tast de cerveses artesanes
LOCATION:
METHOD:PUBLISH
X-WR-CALNAME:capellades@capellades.cat
X-WR-TIMEZONE:Europe/Madrid
DESCRIPTION:Bernat Dàmaso serà l'encarregat de conduir aquest tast de cerveses artesanes que s'organitza a la Cafeteria de La Lliga.

URI:https://www.capellades.cat/actualitat/agenda/3503-tast-de-cerveses-artesanes.html
CLASS:PUBLIC
END:VEVENT
END:VCALENDAR
