BEGIN:VCALENDAR
VERSION:2.0
CALSCALE:GREGORIAN
PRODID:-//Diputació de Barcelona//DibaCMS//EN
BEGIN:VEVENT
UID:3502
DTSTAMP:20260422T061435
DTSTART:20180614T190000
DTEND:20180614T210000
SUMMARY:Club de Lectura a la Biblioteca
LOCATION:C/ Pilar, 2 08786 Capellades
METHOD:PUBLISH
X-WR-CALNAME:capellades@capellades.cat
X-WR-TIMEZONE:Europe/Madrid
DESCRIPTION:Trobada del mes de juny del Club de Lectura de la Biblioteca El Safareig de Capellades.

URI:https://www.capellades.cat/actualitat/agenda/3502-club-de-lectura-a-la-biblioteca.html
CLASS:PUBLIC
END:VEVENT
END:VCALENDAR
