BEGIN:VCALENDAR
VERSION:2.0
CALSCALE:GREGORIAN
PRODID:-//Diputació de Barcelona//DibaCMS//EN
BEGIN:VEVENT
UID:3495
DTSTAMP:20260422T124607
DTSTART:20180612T180000
DTEND:20180612T200000
SUMMARY:Míriam Tirado: Parlem de rebequeries
LOCATION:
METHOD:PUBLISH
X-WR-CALNAME:capellades@capellades.cat
X-WR-TIMEZONE:Europe/Madrid
DESCRIPTION:El dimarts es fa una xerrada sobre les rebequeries infantils amb Míriam Tirado, periodista especialitzada en maternitat i paternitat, especialment a l’etapa dels 0 als 6 anys.

URI:https://www.capellades.cat/actualitat/agenda/miriam-tirado-parlem-de-rebequeries.html
CLASS:PUBLIC
END:VEVENT
END:VCALENDAR
