BEGIN:VCALENDAR
VERSION:2.0
CALSCALE:GREGORIAN
PRODID:-//Diputació de Barcelona//DibaCMS//EN
BEGIN:VEVENT
UID:3494
DTSTAMP:20260422T022038
DTSTART:20180612T180000
DTEND:20180612T190000
SUMMARY:Laboratori de Lectura: Pim, pam Pomelo
LOCATION:
METHOD:PUBLISH
X-WR-CALNAME:capellades@capellades.cat
X-WR-TIMEZONE:Europe/Madrid
DESCRIPTION:Nou laboratori de lectura organitzat des de la Biblioteca El Safareig.

URI:https://www.capellades.cat/actualitat/agenda/laboratori-de-lectura-pim-pam-pomelo.html
CLASS:PUBLIC
END:VEVENT
END:VCALENDAR
