BEGIN:VCALENDAR
VERSION:2.0
CALSCALE:GREGORIAN
PRODID:-//Diputació de Barcelona//DibaCMS//EN
BEGIN:VEVENT
UID:3493
DTSTAMP:20260422T004456
DTSTART:20180610T183000
DTEND:20180610T200000
SUMMARY:Cantata final de curs coral Xeremell
LOCATION:
METHOD:PUBLISH
X-WR-CALNAME:capellades@capellades.cat
X-WR-TIMEZONE:Europe/Madrid
DESCRIPTION:La Coral Xeremell de Capellades prepara un any més el seu concert de fi de curs.

URI:https://www.capellades.cat/actualitat/agenda/cantata-final-de-curs-coral-xeremell.html
CLASS:PUBLIC
END:VEVENT
END:VCALENDAR
