BEGIN:VCALENDAR
VERSION:2.0
CALSCALE:GREGORIAN
PRODID:-//Diputació de Barcelona//DibaCMS//EN
BEGIN:VEVENT
UID:3490
DTSTAMP:20260422T040046
DTSTART:20180610T120000
DTEND:20180610T140000
SUMMARY:Festa final de temporada del Club de Futbol Capellades
LOCATION:
METHOD:PUBLISH
X-WR-CALNAME:capellades@capellades.cat
X-WR-TIMEZONE:Europe/Madrid
DESCRIPTION:Després del treball de tota la temporada, el Club de Futbol Capellades fa un dinar amb tots els seus socis per acomiadar els entrenaments.

URI:https://www.capellades.cat/actualitat/agenda/festa-final-de-temporada-del-club-de-futbol-capellades.html
CLASS:PUBLIC
END:VEVENT
END:VCALENDAR
