BEGIN:VCALENDAR
VERSION:2.0
CALSCALE:GREGORIAN
PRODID:-//Diputació de Barcelona//DibaCMS//EN
BEGIN:VEVENT
UID:3489
DTSTAMP:20260422T054443
DTSTART:20180610T130000
DTEND:20180610T150000
SUMMARY:L'Escola de Música celebra l'aniversari de l'ACEM
LOCATION:
METHOD:PUBLISH
X-WR-CALNAME:capellades@capellades.cat
X-WR-TIMEZONE:Europe/Madrid
DESCRIPTION:Aquest any l'ACEM- Associació d'Escoles de Música de Catalunya- celebra 25 anys, amb un seguit d'actes.

URI:https://www.capellades.cat/actualitat/agenda/3489-lescola-de-musica-celebra-laniversari-de-lacem.html
CLASS:PUBLIC
END:VEVENT
END:VCALENDAR
