BEGIN:VCALENDAR
VERSION:2.0
CALSCALE:GREGORIAN
PRODID:-//Diputació de Barcelona//DibaCMS//EN
BEGIN:VEVENT
UID:3486
DTSTAMP:20260422T124414
DTSTART:20180610T100000
DTEND:20180610T140000
SUMMARY:Mercat d'Antigüitats
LOCATION:
METHOD:PUBLISH
X-WR-CALNAME:capellades@capellades.cat
X-WR-TIMEZONE:Europe/Madrid
DESCRIPTION:El segon diumenge de mes es fa a Capellades el Mercat d'Antigüitats.

URI:https://www.capellades.cat/actualitat/agenda/3486-mercat-dantiguitats.html
CLASS:PUBLIC
END:VEVENT
END:VCALENDAR
